BEGIN:VCALENDAR
VERSION:2.0
PRODID:-//Memorial Park Wheaton - ECPv6.15.17//NONSGML v1.0//EN
CALSCALE:GREGORIAN
METHOD:PUBLISH
X-WR-CALNAME:Memorial Park Wheaton
X-ORIGINAL-URL:https://memorialparkwheaton.com
X-WR-CALDESC:Events for Memorial Park Wheaton
REFRESH-INTERVAL;VALUE=DURATION:PT1H
X-Robots-Tag:noindex
X-PUBLISHED-TTL:PT1H
BEGIN:VTIMEZONE
TZID:America/Chicago
BEGIN:DAYLIGHT
TZOFFSETFROM:-0600
TZOFFSETTO:-0500
TZNAME:CDT
DTSTART:20250309T080000
END:DAYLIGHT
BEGIN:STANDARD
TZOFFSETFROM:-0500
TZOFFSETTO:-0600
TZNAME:CST
DTSTART:20251102T070000
END:STANDARD
BEGIN:DAYLIGHT
TZOFFSETFROM:-0600
TZOFFSETTO:-0500
TZNAME:CDT
DTSTART:20260308T080000
END:DAYLIGHT
BEGIN:STANDARD
TZOFFSETFROM:-0500
TZOFFSETTO:-0600
TZNAME:CST
DTSTART:20261101T070000
END:STANDARD
BEGIN:DAYLIGHT
TZOFFSETFROM:-0600
TZOFFSETTO:-0500
TZNAME:CDT
DTSTART:20270314T080000
END:DAYLIGHT
BEGIN:STANDARD
TZOFFSETFROM:-0500
TZOFFSETTO:-0600
TZNAME:CST
DTSTART:20271107T070000
END:STANDARD
END:VTIMEZONE
BEGIN:VEVENT
DTSTART;TZID=America/Chicago:20260626T200000
DTEND;TZID=America/Chicago:20260626T213000
DTSTAMP:20260420T211009
CREATED:20260420T154918Z
LAST-MODIFIED:20260420T180755Z
UID:1664-1782504000-1782509400@memorialparkwheaton.com
SUMMARY:6/26: The Traveling Salvation Show – A Tribute to Neil Diamond with Mulberry Street - A Billy Joel Tribute
DESCRIPTION:The Traveling Salvation Show – A Tribute to Neil Diamond with Mulberry Street – A Billy Joel TributeFriday\, June 26 | 6-9:30P | Gate opens at 5P\n$10 in advance† | $12 at the gate 8-9:30P | The Traveling Salvation Show – A Tribute to Neil DiamondImagine Neil Diamond’s greatest hits reimagined by the Trans-Siberian Orchestra — that’s The Traveling Salvation Show! This isn’t your father’s “AM radio” Neil Diamond. We’re a hard-driving\, 10-piece rock ensemble that captures the raw energy of Diamond’s legendary arena performances — then cranks it up to eleven. \nFrom Sweet Caroline to Cherry Cherry\, every classic hit is delivered with electrifying rock flair that will have you on your feet\, singing at the top of your lungs. Our show is a full-throttle\, high-energy tribute that proves what fans have always known: Neil Diamond ROCKS. \nBring the whole crew — young\, old\, and everyone in between — for a night that will leave you feeling #SoGoodSoGoodSoGood. Sequins are not required. But they are highly encouraged! Come get saved. \nWebsite: salvationshow.com6-7:15P | Mulberry Street - A Billy Joel Tribute Mulberry Street is a celebration to one of the most popular singer-songwriters of all time\, Billy Joel. A compilation of not only his many chart-topping hits but the most loved deep cuts that still bring fans to their feet. \nComprised of some of Chicago’s finest musicians brought together by frontman-pianoman\, Thomas Linsk. Thomas\, and these amazing artists\, have played across the country performing every genre of music for the past 25 years. \n“Coming together to honor this amazing music has always been a dream of mine\, it was\, and still is the soundtrack of my life!” A high-energy and emotionally-charged performance you can’t afford to miss!†Plus processing fee \nTickets
URL:https://memorialparkwheaton.com/event-listings/6-26-the-traveling-salvation-show-a-tribute-to-neil-diamond-with-mulberry-street-a-billy-joel-tribute/
LOCATION:Memorial Park Bandshell\, 225 Karlskoga Avenue\, Wheaton\, IL\, 60187\, United States
CATEGORIES:Concert,Concerts at Memorial Park,Featured Event,Wheaton Park District Special Event
ATTACH;FMTTYPE=image/jpeg:https://memorialparkwheaton.com/wp-content/uploads/JUNE-26-scaled.jpg
END:VEVENT
BEGIN:VEVENT
DTSTART;TZID=America/Chicago:20260627T180000
DTEND;TZID=America/Chicago:20260627T213000
DTSTAMP:20260420T211009
CREATED:20260420T155004Z
LAST-MODIFIED:20260420T182416Z
UID:1666-1782583200-1782595800@memorialparkwheaton.com
SUMMARY:6/27: Journey 2 Jovi with Addicted to Love - The Music of Robert Palmer
DESCRIPTION:Journey 2 Jovi with Addicted to Love – The Music of Robert PalmerSaturday\, June 27 | 6-9:30P | Gate opens at 5P\n$10 in advance† | $12 at the gate8-9:30P | Journey 2 Jovi\nJourney 2 Jovi is the ultimate Bon Jovi and Journey tribute experience! High-energy hits\, soaring vocals\, powerhouse band\, a light show second to none\, delivering the classics you love. Get ready to Raise Your Hands\, Any Way You Want It with Journey 2 Jovi. \nWebsite: facebook.com/p/Journey-2-Jovi-61583952393511/ \n6-7:15P | Addicted to Love – The Music of Robert Palmer\nAddicted To Love performs in tribute to the late\, great Robert Palmer. \nThe band pays heartfelt homage to this legendary British singer\, covering Palmer’s classics in a spectacular show filled with non-stop hits. Vocalist Chuck Flores embodies Robert Palmer with remarkable authenticity. Chuck is supported by a passionate group of musicians and background vocalists on a mission to deliver an unforgettable musical journey. \nThe show reaches across Palmer’s 30-year career and includes songs like Sneakin’ Sally Through the Alley\, Every Kinda People\, Bad Case of Loving You\, Jealous\, Looking for Clues\, Some Like It Hot\, Addicted to Love and Simply Irresistible. Addicted To Love is excited to perform this wonderful music for you and share its appreciation for this soulful gentleman of rock\, Robert Palmer. \nWebsite: addictedtolove.net \n†Plus processing fee \nTickets
URL:https://memorialparkwheaton.com/event-listings/6-27-journey-2-jovi-with-addicted-to-love-the-music-of-robert-palmer/
LOCATION:Memorial Park Bandshell\, 225 Karlskoga Avenue\, Wheaton\, IL\, 60187\, United States
CATEGORIES:Concert,Concerts at Memorial Park,Featured Event,Wheaton Park District Special Event
ATTACH;FMTTYPE=image/jpeg:https://memorialparkwheaton.com/wp-content/uploads/JUNE-27-scaled.jpg
END:VEVENT
BEGIN:VEVENT
DTSTART;TZID=America/Chicago:20260717T180000
DTEND;TZID=America/Chicago:20260717T213000
DTSTAMP:20260420T211009
CREATED:20260420T155054Z
LAST-MODIFIED:20260420T173405Z
UID:1671-1784311200-1784323800@memorialparkwheaton.com
SUMMARY:7/17: Radio Gaga – A Tribute to Queen and Lady Gaga with The Divas
DESCRIPTION:Radio Gaga – A Tribute to Queen and Lady Gaga with The DivasFriday\, July 17 | 6-9:30P | Gate opens at 5P\n$10 in advance† | $12 at the gate 8-9:30P | Radio Gaga – A Tribute to Queen and Lady Gaga\nRadio Gaga is a high-impact\, Vegas-style production built around “The Concert That Never Was.” Imagine a world where Freddie Mercury and Lady Gaga share the stage—two icons\, one electrifying show. Blending the legendary catalog of Queen with Gaga’s biggest hits\, this immersive experience features powerhouse vocals\, stunning choreography\, multiple costume changes\, and dynamic visual production. It’s more than a tribute—it’s a fantasy brought to life\, delivering nonstop energy\, unforgettable moments\, and a concert experience audiences didn’t know they were missing…until now. \nWebsite: radiogagatour.com \n6-7:15P | The DivasThe Divas are Chicago’s newest ALL FEMALE FRONTED pop cover group\, ready to bring the party with their powerhouse vocals\, infectious choreography\, electrifying band\, and captivating stage presence. Playing the hits from all your favorite DIVAS past and present (think Aretha\, Whitney\, Beyoncé\, Lady Gaga\, Cher and more)\, The Divas are sure to have you dancing and singing along all night long. Are you ready to experience a live music event like no other? \nWebsite: thedivaschi.com†Plus processing fee \nTickets
URL:https://memorialparkwheaton.com/event-listings/7-17-radio-gaga-a-tribute-to-queen-and-lady-gaga-with-the-divas/
LOCATION:Memorial Park Bandshell\, 225 Karlskoga Avenue\, Wheaton\, IL\, 60187\, United States
CATEGORIES:Concert,Concerts at Memorial Park,Featured Event,Wheaton Park District Special Event
ATTACH;FMTTYPE=image/jpeg:https://memorialparkwheaton.com/wp-content/uploads/JULY-17-scaled.jpg
END:VEVENT
BEGIN:VEVENT
DTSTART;TZID=America/Chicago:20260718T193000
DTEND;TZID=America/Chicago:20260718T210000
DTSTAMP:20260420T211009
CREATED:20260420T155152Z
LAST-MODIFIED:20260420T173640Z
UID:1672-1784403000-1784408400@memorialparkwheaton.com
SUMMARY:7/18: LANCO
DESCRIPTION:LANCOSaturday\, July 18 | 7:30-9P \n$20 in advance† | $25 at the gate7:30-9P | LANCOFormed nearly a decade ago\, LANCO has cemented itself as one of country music’s most dynamic acts. Their debut album\, Hallelujah Nights\, debuted at No. 1 on the Billboard Top Country Albums chart and featured the 2X Platinum hit “Greatest Love Story” and the Platinum-certified “Born to Love You.” Their catalog also includes the EPs Lessons Learned\, Honky Tonk Hippies\, and Run\, Run Baby. \nLANCO continued their evolution with their sophomore album\, We’re Gonna Make It (Riser House Records)\, showcasing a fresh yet authentic sound rooted in storytelling and heartland energy. Most recently\, the band released “Call You a Friend\,” a new collaboration with Eli Young Band\, ahead of their joint headline run. \nThe band has earned nominations from the Country Music Association\, American Music Awards\, iHeartRadio Music Awards\, and the Academy of Country Music Awards\, taking home ACM New Duo/Group of the Year. The band has shared the stage with acts like Miranda Lambert\, Luke Combs\, Dierks Bentley\, and Kane Brown. LANCO will hit the road with Eli Young Band on the Call You a Friend Tour beginning February 2026 in Marietta\, OH\, while continuing to headline their own dates. \nWebsite: lancomusic.com†Plus processing fee \nTickets
URL:https://memorialparkwheaton.com/event-listings/7-18-lanco/
LOCATION:Memorial Park Bandshell\, 225 Karlskoga Avenue\, Wheaton\, IL\, 60187\, United States
CATEGORIES:Concert,Concerts at Memorial Park,Featured Event,Wheaton Park District Special Event
ATTACH;FMTTYPE=image/jpeg:https://memorialparkwheaton.com/wp-content/uploads/JULY-18-scaled.jpg
END:VEVENT
BEGIN:VEVENT
DTSTART;TZID=America/Chicago:20260719T150000
DTEND;TZID=America/Chicago:20260719T163000
DTSTAMP:20260420T211009
CREATED:20260420T155218Z
LAST-MODIFIED:20260420T155218Z
UID:1673-1784473200-1784478600@memorialparkwheaton.com
SUMMARY:7/19: DuPage Symphony Orchestra
DESCRIPTION:DuPage Symphony OrchestraSunday\, July 19 | 3-4:30P | Gate opens at 2P\nFree Admission | No tickets needed3-4:30P | DuPage Symphony OrchestraThe DuPage Symphony Orchestra (DSO) is a highly accomplished\, award-winning symphony orchestra based in Naperville\, Illinois. Entering its 73rd season\, the DSO is dedicated to presenting inspiring orchestral performances\, fostering music education\, and promoting community engagement through the power of live music. Under the baton of Music Director and Conductor Barbara Schubert\, the DSO’s July 2026 concert at Wheaton’s Memorial Park will feature an array of colorful and exhilarating repertoire\, with selections that contribute to the Park District’s celebration of the America 250 anniversary. \nWebsite: dupagesymphony.org
URL:https://memorialparkwheaton.com/event-listings/7-19-dupage-symphony-orchestra/
LOCATION:Memorial Park Bandshell\, 225 Karlskoga Avenue\, Wheaton\, IL\, 60187\, United States
CATEGORIES:Concert,Concerts at Memorial Park,Featured Event,Wheaton Park District Special Event
ATTACH;FMTTYPE=image/jpeg:https://memorialparkwheaton.com/wp-content/uploads/JULY-19-scaled.jpg
END:VEVENT
BEGIN:VEVENT
DTSTART;TZID=America/Chicago:20260724T180000
DTEND;TZID=America/Chicago:20260724T213000
DTSTAMP:20260420T211009
CREATED:20260420T155304Z
LAST-MODIFIED:20260420T173746Z
UID:1674-1784916000-1784928600@memorialparkwheaton.com
SUMMARY:7/24: The Brothers Gibb with The Disco Circus
DESCRIPTION:The Brothers Gibb with The Disco CircusFriday\, July 24 | 6-9:30P | Gate opens at 5P\n$10 in advance† | $12 at the gate8-9:30P | The Brothers Gibb\nThe Bee Gees didn’t just define an era—they created it. With over 220 million records sold and nine #1 hits\, their music became the heartbeat of a generation\, from timeless ballads to the disco anthems that lit up dance floors around the world. \nThe Brothers Gibb delivers a high-energy\, full-career retrospective that captures the sound\, style\, and spirit of the Bee Gees—from their early hits through the iconic Saturday Night Fever era and beyond. Featuring stunning falsetto vocals\, rich harmonies\, and an authentic live-band experience\, this show brings the magic of the Bee Gees back to life. \nSo grab your bell bottoms\, hit the dance floor\, and relive the songs that made history. \nWebsite: thebrothersgibb.com \n6-7:15P | The Disco Circus“We’re bringing DISCO BACK!” \nChicago-based disco/funk tribute band\, The Disco Circus\, creates a NEXT LEVEL nostalgic experience by combining the energy and excitement of a 3-ring circus with the grooviest music from the 1970s! \nWith explosive energy and a vibrant take on classic disco hits\, The Disco Circus delivers a nonstop party experience. Featuring powerhouse vocals\, groovy beats\, theatrical flair\, and playful onstage shenanigans\, the band invites audiences to dance\, sing along\, and relive the magic of disco in a bold\, over-the-top show that’s equal parts nostalgia and spectacle. If you’re longing for the days of platform shoes\, bell bottoms\, sparkles galore and music that gets your booty movin’…then put on some polyester and your boogie shoes and let The Disco Circus take you directly to Funkytown! \nWebsite: thediscocircusband.com†Plus processing fee \nTickets
URL:https://memorialparkwheaton.com/event-listings/7-24-the-brothers-gibb-with-the-disco-circus/
LOCATION:Memorial Park Bandshell\, 225 Karlskoga Avenue\, Wheaton\, IL\, 60187\, United States
CATEGORIES:Concert,Concerts at Memorial Park,Featured Event,Wheaton Park District Special Event
ATTACH;FMTTYPE=image/jpeg:https://memorialparkwheaton.com/wp-content/uploads/JULY-24-scaled.jpg
END:VEVENT
BEGIN:VEVENT
DTSTART;TZID=America/Chicago:20260725T180000
DTEND;TZID=America/Chicago:20260725T213000
DTSTAMP:20260420T211009
CREATED:20260416T221117Z
LAST-MODIFIED:20260420T175319Z
UID:1676-1785002400-1785015000@memorialparkwheaton.com
SUMMARY:7/25: The PettyBreakers – A Tribute to Tom Petty with The Fortunate Sons – A Tribute to Creedence Clearwater Revival
DESCRIPTION:The PettyBreakers – A Tribute to Tom Petty with The Fortunate Sons – A Tribute to Creedence Clearwater RevivalSaturday\, July 25 | 6-9:30P | Gate opens at 5P\n$10 in advance† | $12 at the gate 8-9:30P | The PettyBreakers – A Tribute to Tom Petty\nWhat started out in 2010 as a regional band is now the Nations’ #1 touring tribute to Tom Petty. The PettyBreakers are known for their performances dedicated to capturing the essence and sound of a live Tom Petty and the Heartbreakers concert. \nThe band has played in 26 states and Washington D.C. Having performed at many performing arts centers\, theaters\, casinos\, clubs\, festivals and corporate and other private events\, one of the highlights so far was performing the iconic catalog of Tom Petty and the Heartbreakers live at the Naval Yard in Washington D.C. in 2018 for Major League Baseball’s Allstars Pregame Celebration. \nWebsite: thepettybreakers.com \n6-7:15P | The Fortunate Sons – A Tribute to Creedence Clearwater Revival\nThe Fortunate Sons are the world’s premier tribute to America’s greatest band: Creedence Clearwater Revival. Based in Chicago\, the band tours nationally and internationally to keep the tradition of CCR’s timeless music alive. Using original vintage gear and instruments\, accurate costumes\, and spot-on musical ability\, The Fortunate Sons instantly conjure up the full experience of seeing Creedence in their prime. \nWebsite: fortunatesons.com \n†Plus processing fee \nTickets
URL:https://memorialparkwheaton.com/event-listings/7-25-the-fortunate-sons-a-tribute-to-creedence-clearwater-revival-with-the-pettybreakers-a-tribute-to-tom-petty/
LOCATION:Memorial Park Bandshell\, 225 Karlskoga Avenue\, Wheaton\, IL\, 60187\, United States
CATEGORIES:Concert,Concerts at Memorial Park,Featured Event,Wheaton Park District Special Event
ATTACH;FMTTYPE=image/jpeg:https://memorialparkwheaton.com/wp-content/uploads/JULY-25-scaled.jpg
END:VEVENT
BEGIN:VEVENT
DTSTART;TZID=America/Chicago:20260807T180000
DTEND;TZID=America/Chicago:20260807T213000
DTSTAMP:20260420T211009
CREATED:20260420T155506Z
LAST-MODIFIED:20260420T174114Z
UID:1677-1786125600-1786138200@memorialparkwheaton.com
SUMMARY:8/7: Double Vision – The Foreigner Experience with Strung Out – The Ultimate '70s Musical Experience
DESCRIPTION:Double Vision – The Foreigner Experience with Strung Out – The Ultimate ’70s Musical ExperienceFriday\, August 7 | 6-9:30P | Gate opens at 5P\n$10 in advance† | $12 at the gate8-9:30P | Double Vision - The Foreigner Experience\nWelcome To The Legitimate Foreigner Tribute. \nBoasting some of New Jersey’s top professional rock musicians\, Double Vision delivers the highest level of integrity and technical prowess to bring you all the hits from the band that you’ve come to love. With their recent signing to Frontiers Music SRL\, one of the most prestigious rock labels on the planet\, Double Vision has achieved a milestone as one of the very first tribute acts in the world to secure a record deal. Honoring Foreigner and its audience\, they offer a show second to none. \nWebsite: doublevisiontheband.com \n6-7:15P | Strung Out – The Ultimate '70s Musical Experience\nStrung Out is Chicago’s Ultimate ’70s Musical Experience. \nWe’ve dug through the incredible treasure trove of classic ’70s music that other bands overlook and found the greatest songs that are as diverse as the decade itself! Rock\, soul\, funk and fantastic One Hit Wonders that are instantly recognizable and deeply woven into the fabric of our culture and our memories. \nSince 2012\, Strung Out has been capturing the attention of a large following\, as well as clubs\, festivals and corporate event planners throughout the area. Strung Out recreates the songs and their era with a happy\, entertaining\, and engaging show that has you singing and dancing along. It’s a whole night of “Wow\, I remember that one!” moments. And the addition of the electric cello\, creates a fresh and amazing sound that breaks the mold of every other classic rock band. Come to a Strung Out show and see for yourself! \nWebsite: strungoutband.com \n†Plus processing fee \nTickets
URL:https://memorialparkwheaton.com/event-listings/8-7-double-vision-the-foreigner-experience-with-strung-out-the-ultimate-70s-musical-experience/
LOCATION:Memorial Park Bandshell\, 225 Karlskoga Avenue\, Wheaton\, IL\, 60187\, United States
CATEGORIES:Concert,Concerts at Memorial Park,Featured Event,Wheaton Park District Special Event
ATTACH;FMTTYPE=image/jpeg:https://memorialparkwheaton.com/wp-content/uploads/AUG-7-scaled.jpg
END:VEVENT
BEGIN:VEVENT
DTSTART;TZID=America/Chicago:20260808T180000
DTEND;TZID=America/Chicago:20260808T213000
DTSTAMP:20260420T211009
CREATED:20260420T155718Z
LAST-MODIFIED:20260420T175541Z
UID:1678-1786212000-1786224600@memorialparkwheaton.com
SUMMARY:8/8: Motor City: The Motown Revue with Blooze Brothers
DESCRIPTION:Motor City: The Motown Revue with Blooze BrothersSaturday\, August 8 | 6-9:30P | Gate opens at 5P\n$10 in advance† | $12 at the gate 8-9:30P | Motor City: The Motown Revue\n“Motor City: The Motown Revue” is dedicated to delivering an authentic and powerful representation of the classic “Motown sound” that transformed music history. Whether you’re revisiting this era or discovering it for the first time\, our goal is to create a memorable experience that captures the essence of Motown’s timeless hits. We pay tribute to Berry Gordy’s legacy by showcasing the music of legendary artists like The Supremes\, The Temptations\, and Marvin Gaye\, bringing the magic of Motown to life for all to enjoy. \nWebsite: motorcityrevue.com \n6-7:15P | Blooze BrothersFor over three decades (yes\, really)\, the Blooze Brothers Band has been one of Chicagoland’s most in-demand show bands. They not only honor the music made by the original Blues Brothers in movies\, TV\, and recordings\, but the spirit in which they played – from Dan Aykroyd’s love of traditional blues\, Motown\, soul\, and R&B to John Belushi’s love of classic rock. Like Aykroyd and Belushi\, they fuse those great musical traditions into a stage show that energizes and delights hundreds of thousands of music fans across the greater Chicago area and beyond every year. \nWith a combination of two high-energy frontmen\, a dynamic female lead singer\, some of Chicago’s top musicians\, and a briefcase full of your favorite rhythm & blues\, blues\, and soul classics\, the Blooze Brothers Band provides a musical experience that can’t be beat! \nWebsite: bloozebrothers.com†Plus processing fee \nTickets
URL:https://memorialparkwheaton.com/event-listings/8-8-motown-revue-with-blooze-brothers/
LOCATION:Memorial Park Bandshell\, 225 Karlskoga Avenue\, Wheaton\, IL\, 60187\, United States
CATEGORIES:Concert,Concerts at Memorial Park,Featured Event,Wheaton Park District Special Event
ATTACH;FMTTYPE=image/jpeg:https://memorialparkwheaton.com/wp-content/uploads/AUG-8-scaled.jpg
END:VEVENT
BEGIN:VEVENT
DTSTART;TZID=America/Chicago:20260911T180000
DTEND;TZID=America/Chicago:20260911T213000
DTSTAMP:20260420T211009
CREATED:20260420T155804Z
LAST-MODIFIED:20260420T174307Z
UID:1692-1789149600-1789162200@memorialparkwheaton.com
SUMMARY:9/11: Sins N’ Roses – Chicago’s Guns N’ Roses Illusion with Eliminator – A Tribute to ZZ Top
DESCRIPTION:Sins N’ Roses – Chicago’s Guns N’ Roses Illusion with Eliminator – A Tribute to ZZ TopFriday\, September 11 | 6-9:30P | Gate opens at 5P\n$10 in advance† | $12 at the gate8-9:30P | Sins N’ Roses – Chicago’s Guns N’ Roses Illusion \nSins N’ Roses is one of the nations most authentic Guns N’ Roses tributes – rocking the iconic band’s legendary songs LIVE AND LOUD! \nOver the past three years\, Sins N’ Roses has played across the Mid West to tens of thousands of passionate GnR fans – of all ages. They perform over 40 GnR classics – mega hits like Sweet Child of Mine\, Welcome to the Jungle\, November Rain and Paradise City – with note for note musical authenticity – and that bad boy swagger. \nThe band rehearses relentlessly and uses vintage instruments to replicate Guns N’ Roses live performances – fans say the band sounds exactly like Guns N’ Roses from their MTV heyday! \nWebsite: sinsnroses.com \n6-7:15P | Eliminator - A Tribute to ZZ TopFounded in Chicago in October 1992\, Eliminator is the longest-running ZZ Top tribute act in the world. No one has been doing this longer — not in America\, not anywhere. Three decades of continuous touring across all 50 states have produced a show that is simply impossible to replicate. \nFrom the iconic fur-covered guitars to the synchronized shuffles and full replica stage attire\, every detail is dialed in to deliver an experience that honors one of rock’s most legendary and distinctive bands. The hats. The beards. The moves. The music. All of it\, every night. \nEliminator has shared stages with Lita Ford\, Night Ranger\, Foghat\, Georgia Satellites\, Jackyl\, Pat Travers\, Henry Lee Summer\, and Wayne Cochran — and been featured on AXS TV’s World’s Greatest Tribute Bands\, filmed live at the Whisky A Go Go in Hollywood.†Plus processing fee \nTickets
URL:https://memorialparkwheaton.com/event-listings/9-11-sins-n-roses-chicagos-guns-n-roses-illusion-with-eliminator-a-tribute-to-zz-top/
LOCATION:Memorial Park Bandshell\, 225 Karlskoga Avenue\, Wheaton\, IL\, 60187\, United States
CATEGORIES:Concert,Concerts at Memorial Park,Featured Event,Wheaton Park District Special Event
ATTACH;FMTTYPE=image/jpeg:https://memorialparkwheaton.com/wp-content/uploads/SEPT-11-scaled.jpg
END:VEVENT
BEGIN:VEVENT
DTSTART;TZID=America/Chicago:20260912T180000
DTEND;TZID=America/Chicago:20260912T213000
DTSTAMP:20260420T211009
CREATED:20260420T155858Z
LAST-MODIFIED:20260420T174406Z
UID:1693-1789236000-1789248600@memorialparkwheaton.com
SUMMARY:9/12: Sons of Chicago – A Tribute to Bruce Springsteen & Bob Seger with Gold Dust Dreams – A Tribute to Fleetwood Mac
DESCRIPTION:Sons of Chicago – A Tribute to Bruce Springsteen & Bob Seger with Gold Dust Dreams – A Tribute to Fleetwood MacSaturday\, September 12 | 6-9:30P | Gate opens at 5P\n$10 in advance† | $12 at the gate8-9:30P | Sons of Chicago – A Tribute to Bruce Springsteen & Bob Seger\nThe Sons of Chicago are a band of eight rocking professional musicians that pay homage to two iconic American artists in the same show. \nAnthems and deep cuts about the dreams\, hope\, hardship and glory of life in the U.S.A. – Springsteen’s Rosalita\, Thunder Road\, Badlands\, Dancing in the Dark\, Promised Land\, Spirit of the Night\, Tenth Avenue Freezeout\, Darlington County\, Bobby Jean\, Light of Day\, The Rising\, Nebraska\, Born to Run; and Seger’s masterworks Roll Me Away\, Rock n Roll Never Forgets\, Fire Down Below\, Turn the Page\, Like a Rock\, Katmandu and others – are performed with the same emotional energy as the originals. \nEvery lyric is a memory\, every riff a heartbeat\, keeping the audience rocking\, dancing and singing with the band. \nWebsite: sonsofchicagomusic.com \n6-7:15P | Gold Dust Dreams – A Tribute to Fleetwood Mac\nWhen it comes to tribute acts\, no one performs with more passion and accuracy than Gold Dust Dreams. Fleetwood Mac fans flock to their shows to hear the songs that defined multiple generations. With over 120 million records sold\, Fleetwood Mac has provided the soundtrack for multiple generations of fans across the world. Their songs connect with the audience on an emotional level like no other\, bringing people back to a special place in time. \nGold Dust Dreams embodies the spirit of Fleetwood Mac and goes to great lengths to recreate their greatest hits at each performance\, taking you on a journey through the career of one of the most successful bands of our time. Strap in and get ready for an incredible evening of Fleetwood Mac music. \nWebsite: golddustdreams.com \n†Plus processing fee \nTickets
URL:https://memorialparkwheaton.com/event-listings/9-12-sons-of-chicago-a-tribute-to-bruce-springsteen-bob-seger-with-gold-dust-dreams-a-tribute-to-fleetwood-mac/
LOCATION:Memorial Park Bandshell\, 225 Karlskoga Avenue\, Wheaton\, IL\, 60187\, United States
CATEGORIES:Concert,Concerts at Memorial Park,Featured Event,Wheaton Park District Special Event
ATTACH;FMTTYPE=image/jpeg:https://memorialparkwheaton.com/wp-content/uploads/SEPT-12-scaled.jpg
END:VEVENT
END:VCALENDAR